Workbook
Name _ftn1: Прейскурант!#REF!
Name _ftnref1: Прейскурант!#REF!
Name OLE_LINK1: Прейскурант!#REF!

Sheet Прейскурант
A1: Утверждаю, генеральный директор Король К.В.__________________
A2: г. Санкт-Петербург, г. Павловск, ул. Васенко, д. 3, стр. 1, пом 4-Н, 5-Н, 6-Н
A4: Прейскурант ООО «Европейский Институт Здоровья Семьи» на лабораторные исследования "Инвитро"
A5: Код | B5: НМУ приказ 804 | C5: Наименование профиля исследований | D5: Стоимость, руб. | E5: Сроки исполнения**
A6: КОАГУЛОГИЯ
A7: 1 | B7: =VLOOKUP(A7,[1]Лист1!$A:$C,3,0) -> A12.05.039 | C7: АЧТВ | D7: 280 | E7: 1
A8: 2 | B8: =VLOOKUP(A8,[1]Лист1!$A:$C,3,0) -> A12.05.027.000.01 | C8: Протромбин+МНО | D8: 400 | E8: 1
A9: 3 | B9: =VLOOKUP(A9,[1]Лист1!$A:$C,3,0) -> A09.05.050 | C9: Фибриноген | D9: 350 | E9: 1
A10: 4 | B10: =VLOOKUP(A10,[1]Лист1!$A:$C,3,0) -> A09.05.047 | C10: Антитромбин III | D10: 570 | E10: 1
A11: 190 | B11: =VLOOKUP(A11,[1]Лист1!$A:$C,3,0) -> A12.05.043.000.01 | C11: Волчаночный антикоагулянт | D11: 1700 | E11: 1
A12: 194 | B12: =VLOOKUP(A12,[1]Лист1!$A:$C,3,0) -> A12.05.028 | C12: Тромбиновое время | D12: 370 | E12: 1
A13: 164 | B13: =VLOOKUP(A13,[1]Лист1!$A:$C,3,0) -> A09.05.051.001 | C13: D-димер | D13: 1600 | E13: 1
A14: КЛИНИЧЕСКИЙ АНАЛИЗ КРОВИ
A15: 1515 | B15: =VLOOKUP(A15,[1]Лист1!$A:$C,3,0) -> B03.016.003 | C15: Клинический анализ крови (тесты 5, 119, 139) | D15: 600 | E15: 1
A16: 1555 | C16: Клинический анализ крови (с обязательной «ручной» микроскопией мазка крови) (тесты 5, 911, 139) | D16: 750 | E16: 1
A17: 5 | B17: =VLOOKUP(A17,[1]Лист1!$A:$C,3,0) -> B03.016.002.000.01 | C17: Общий анализ крови (Hb,Ht,эритр.,лейкоц.,тромбоциты) | D17: 360 | E17: 1
A18: 139 | B18: =VLOOKUP(A18,[1]Лист1!$A:$C,3,0) -> A12.05.001 | C18: СОЭ | D18: 250 | E18: 1
A19: 119 | B19: =VLOOKUP(A19,[1]Лист1!$A:$C,3,0) -> A12.05.121 | C19: Лейкоцитарная формула | D19: 360 | E19: 1
A20: 911 | B20: =VLOOKUP(A20,[1]Лист1!$A:$C,3,0) -> A12.05.121 | C20: Лейкоцитарная формула (с обязательной «ручной» микроскопией мазка крови) | D20: 450 | E20: 1
A21: 5/119 | B21: =VLOOKUP(A21,[1]Лист1!$A:$C,3,0) -> B03.016.002 | C21: Клинический анализ крови (5,119) | D21: 700 | E21: 1
A22: 1600 | B22: =VLOOKUP(A22,[1]Лист1!$A:$C,3,0) -> A12.05.002 | C22: Определение осмотической резистентности эритроцитов (Osmotic fragility (OF) test, RBC) | D22: 2050 | E22: до 6
A23: 1618 | B23: =VLOOKUP(A23,[1]Лист1!$A:$C,3,0) -> A09.05.014.000.01 | C23: Электрофорез гемоглобина (Hemoglobin Electrophoresis) | D23: 4450 | E23: до 6
A24: 1619 | B24: =VLOOKUP(A24,[1]Лист1!$A:$C,3,0) -> A09.05.014.000.03 | C24: Электрофорез липопротеинов с типированием гиперлипидемий (Lipoprotein electrophoresis with typing of hyperlipidemias) | D24: 7000 | E24: до 6
A25: 1620 | C25: Глюкозо-6-фосфатдегидрогеназа эритроцитов, активность (Г6ФД, Glucose-6-phosphate dehydrogenase, G6PD, activity) | D25: 3600 | E25: до 6
A26: TRO | B26: =VLOOKUP(A26,[1]Лист1!$A:$C,3,0) -> A12.05.120 | C26: Тромбоциты, микроскопия. Отдельно не выполняется, только в комплексе с тестом №5 «Общий анализ крови». | D26: 330 | E26: 1
A27: 150 | B27: =VLOOKUP(A27,[1]Лист1!$A:$C,3,0) -> A12.05.123 | C27: Подсчет количества ретикулоцитов | D27: 480 | E27: 1
A28: 1542KARB | B28: =VLOOKUP(A28,[2]Лист1!$A:$D,3,0) -> A09.05.091 | C28: Фракции гемоглобина (карбоксигемоглобин) | D28: 640 | E28: до 4
A29: 1543MET | C29: Фракции гемоглобина (метгемоглобин) | D29: 640 | E29: до 4
A30: 1545BZ | B30: =VLOOKUP(A30,[1]Лист1!$A:$C,3,0) -> A12.05.122.000.01 | C30: Исследование эритроцитов (базофильная зернистость, тельца Гейнца) | D30: 450 | E30: до 2
A31: ИММУНОГЕМАТОЛОГИЯ
A32: 93 | B32: =VLOOKUP(A32,[1]Лист1!$A:$C,3,0) -> A12.05.005 | C32: Группа крови | D32: 450 | E32: 1
A33: 94 | B33: =VLOOKUP(A33,[1]Лист1!$A:$C,3,0) -> A12.05.006 | C33: Резус-принадлежность | D33: 450 | E33: 1
A34: АГН15 | C34: Группа крови и резус-фактор | D34: 850 | E34: 1
A35: 15RH | B35: =VLOOKUP(A35,[1]Лист1!$A:$C,3,0) -> A12.05.007.001.01 | C35: Rh (C, E, c, e), Kell – фенотипирование (Rh C, E, c, e, Kell phenotyping) | D35: 1000 | E35: до 2
A36: 140 | B36: =VLOOKUP(A36,[1]Лист1!$A:$C,3,0) -> A12.05.008 | C36: Аллоиммунные антитела с указанием титра (АТ к резус-фактору, включая антитела к Rh-антигену) | D36: 1100 | E36: 1
A37: 999 | B37: =VLOOKUP(A37,[1]Лист1!$A:$C,3,0) -> A12.05.009 | C37: Прямой антиглобулиновый тест, полиспецифичный (ПАГТ, прямая проба Кумбса, Direct Antiglobulin Test, DAT, Direct Coombs Test Polyspecific) | D37: 1250 | E37: до 2
A38: БИОХИМИЧЕСКИЙ АНАЛИЗ КРОВИ
A39: Ферменты
A40: 8 | B40: =VLOOKUP(A40,[1]Лист1!$A:$C,3,0) -> A09.05.042 | C40: АлАТ | D40: 240 | E40: 1
A41: 9 | B41: =VLOOKUP(A41,[1]Лист1!$A:$C,3,0) -> A09.05.041 | C41: АсАТ | D41: 240 | E41: 1
...

Sheet Лист1
