Workbook
Name _ftn1: Прейскурант!#REF!
Name _ftnref1: Прейскурант!#REF!
Name OLE_LINK1: Прейскурант!#REF!

Sheet Прейскурант
A1: Утверждаю, генеральный директор Король К.В.__________________
A2: г. Санкт-Петербург, г. Павловск, ул. Васенко, д. 3, стр. 1, пом 4-Н, 5-Н, 6-Н
A4: Прейскурант ООО «Европейский Институт Здоровья Семьи» на лабораторные исследования "Инвитро"
A5: Код | B5: НМУ приказ 804 | C5: Наименование профиля исследований | D5: Стоимость, руб. | E5: Сроки исполнения**
A6: КОАГУЛОГИЯ
A7: 1 | B7: =VLOOKUP(A7,[1]Лист1!$A:$C,3,0) -> A12.05.039 | C7: АЧТВ | D7: 280 | E7: 1
A8: 2 | B8: =VLOOKUP(A8,[1]Лист1!$A:$C,3,0) -> A12.05.027.000.01 | C8: Протромбин+МНО | D8: 400 | E8: 1
A9: 3 | B9: =VLOOKUP(A9,[1]Лист1!$A:$C,3,0) -> A09.05.050 | C9: Фибриноген | D9: 350 | E9: 1
A10: 4 | B10: =VLOOKUP(A10,[1]Лист1!$A:$C,3,0) -> A09.05.047 | C10: Антитромбин III | D10: 570 | E10: 1
A11: 190 | B11: =VLOOKUP(A11,[1]Лист1!$A:$C,3,0) -> A12.05.043.000.01 | C11: Волчаночный антикоагулянт | D11: 1700 | E11: 1
A12: 194 | B12: =VLOOKUP(A12,[1]Лист1!$A:$C,3,0) -> A12.05.028 | C12: Тромбиновое время | D12: 370 | E12: 1
A13: 164 | B13: =VLOOKUP(A13,[1]Лист1!$A:$C,3,0) -> A09.05.051.001 | C13: D-димер | D13: 1600 | E13: 1
A14: КЛИНИЧЕСКИЙ АНАЛИЗ КРОВИ
A15: 1515 | B15: =VLOOKUP(A15,[1]Лист1!$A:$C,3,0) -> B03.016.003 | C15: Клинический анализ крови (тесты 5, 119, 139) | D15: 600 | E15: 1
A16: 1555 | C16: Клинический анализ крови (с обязательной «ручной» микроскопией мазка крови) (тесты 5, 911, 139) | D16: 750 | E16: 1
A17: 5 | B17: =VLOOKUP(A17,[1]Лист1!$A:$C,3,0) -> B03.016.002.000.01 | C17: Общий анализ крови (Hb,Ht,эритр.,лейкоц.,тромбоциты) | D17: 360 | E17: 1
A18: 139 | B18: =VLOOKUP(A18,[1]Лист1!$A:$C,3,0) -> A12.05.001 | C18: СОЭ | D18: 250 | E18: 1
A19: 119 | B19: =VLOOKUP(A19,[1]Лист1!$A:$C,3,0) -> A12.05.121 | C19: Лейкоцитарная формула | D19: 360 | E19: 1
A20: 911 | B20: =VLOOKUP(A20,[1]Лист1!$A:$C,3,0) -> A12.05.121 | C20: Лейкоцитарная формула (с обязательной «ручной» микроскопией мазка крови) | D20: 450 | E20: 1
A21: 5/119 | B21: =VLOOKUP(A21,[1]Лист1!$A:$C,3,0) -> B03.016.002 | C21: Клинический анализ крови (5,119) | D21: 700 | E21: 1
A22: 1600 | B22: =VLOOKUP(A22,[1]Лист1!$A:$C,3,0) -> A12.05.002 | C22: Определение осмотической резистентности эритроцитов (Osmotic fragility (OF) test, RBC) | D22: 2050 | E22: до 6
A23: 1618 | B23: =VLOOKUP(A23,[1]Лист1!$A:$C,3,0) -> A09.05.014.000.01 | C23: Электрофорез гемоглобина (Hemoglobin Electrophoresis) | D23: 4450 | E23: до 6
A24: 1619 | B24: =VLOOKUP(A24,[1]Лист1!$A:$C,3,0) -> A09.05.014.000.03 | C24: Электрофорез липопротеинов с типированием гиперлипидемий (Lipoprotein electrophoresis with typing of hyperlipidemias) | D24: 7000 | E24: до 6
A25: 1620 | C25: Глюкозо-6-фосфатдегидрогеназа эритроцитов, активность (Г6ФД, Glucose-6-phosphate dehydrogenase, G6PD, activity) | D25: 3600 | E25: до 6
A26: TRO | B26: =VLOOKUP(A26,[1]Лист1!$A:$C,3,0) -> A12.05.120 | C26: Тромбоциты, микроскопия. Отдельно не выполняется, только в комплексе с тестом №5 «Общий анализ крови». | D26: 330 | E26: 1
A27: 150 | B27: =VLOOKUP(A27,[1]Лист1!$A:$C,3,0) -> A12.05.123 | C27: Подсчет количества ретикулоцитов | D27: 480 | E27: 1
A28: 1542KARB | B28: =VLOOKUP(A28,[2]Лист1!$A:$D,3,0) -> A09.05.091 | C28: Фракции гемоглобина (карбоксигемоглобин) | D28: 640 | E28: до 4
A29: 1543MET | C29: Фракции гемоглобина (метгемоглобин) | D29: 640 | E29: до 4
A30: 1545BZ | B30: =VLOOKUP(A30,[1]Лист1!$A:$C,3,0) -> A12.05.122.000.01 | C30: Исследование эритроцитов (базофильная зернистость, тельца Гейнца) | D30: 450 | E30: до 2
A31: ИММУНОГЕМАТОЛОГИЯ
A32: 93 | B32: =VLOOKUP(A32,[1]Лист1!$A:$C,3,0) -> A12.05.005 | C32: Группа крови | D32: 450 | E32: 1
A33: 94 | B33: =VLOOKUP(A33,[1]Лист1!$A:$C,3,0) -> A12.05.006 | C33: Резус-принадлежность | D33: 450 | E33: 1
A34: АГН15 | C34: Группа крови и резус-фактор | D34: 850 | E34: 1
A35: 15RH | B35: =VLOOKUP(A35,[1]Лист1!$A:$C,3,0) -> A12.05.007.001.01 | C35: Rh (C, E, c, e), Kell – фенотипирование (Rh C, E, c, e, Kell phenotyping) | D35: 1000 | E35: до 2
A36: 140 | B36: =VLOOKUP(A36,[1]Лист1!$A:$C,3,0) -> A12.05.008 | C36: Аллоиммунные антитела с указанием титра (АТ к резус-фактору, включая антитела к Rh-антигену) | D36: 1100 | E36: 1
A37: 999 | B37: =VLOOKUP(A37,[1]Лист1!$A:$C,3,0) -> A12.05.009 | C37: Прямой антиглобулиновый тест, полиспецифичный (ПАГТ, прямая проба Кумбса, Direct Antiglobulin Test, DAT, Direct Coombs Test Polyspecific) | D37: 1250 | E37: до 2
A38: БИОХИМИЧЕСКИЙ АНАЛИЗ КРОВИ
A39: Ферменты
A40: 8 | B40: =VLOOKUP(A40,[1]Лист1!$A:$C,3,0) -> A09.05.042 | C40: АлАТ | D40: 240 | E40: 1
A41: 9 | B41: =VLOOKUP(A41,[1]Лист1!$A:$C,3,0) -> A09.05.041 | C41: АсАТ | D41: 240 | E41: 1
A42: 10 | B42: =VLOOKUP(A42,[1]Лист1!$A:$C,3,0) -> A09.05.011 | C42: Альбумин | D42: 370 | E42: 1
A43: 11 | B43: =VLOOKUP(A43,[1]Лист1!$A:$C,3,0) -> A09.05.045 | C43: Амилаза | D43: 370 | E43: 1
A44: 12 | B44: =VLOOKUP(A44,[1]Лист1!$A:$C,3,0) -> A09.05.180 | C44: Амилаза панкреатическая | D44: 400 | E44: 1
A45: 15 | B45: =VLOOKUP(A45,[1]Лист1!$A:$C,3,0) -> A09.05.044 | C45: Гамма-ГТ | D45: 240 | E45: 1
A46: 19 | B46: =VLOOKUP(A46,[1]Лист1!$A:$C,3,0) -> A09.05.043 | C46: Креатинкиназа | D46: 400 | E46: 1
A47: 20 | B47: =VLOOKUP(A47,[1]Лист1!$A:$C,3,0) -> A09.05.177 | C47: Креатинкиназа-МВ | D47: 600 | E47: до 2
A48: 23 | B48: =VLOOKUP(A48,[1]Лист1!$A:$C,3,0) -> A09.05.173 | C48: Липаза | D48: 500 | E48: 1
A49: 24 | B49: =VLOOKUP(A49,[1]Лист1!$A:$C,3,0) -> A09.05.039 | C49: ЛДГ | D49: 275 | E49: 1
A50: 34 | B50: =VLOOKUP(A50,[1]Лист1!$A:$C,3,0) -> A09.05.174 | C50: Холинэстераза | D50: 390 | E50: 1
A51: 36 | B51: =VLOOKUP(A51,[1]Лист1!$A:$C,3,0) -> A09.05.046 | C51: Фосфатаза щелочная | D51: 275 | E51: 1
A52: 294 | B52: =VLOOKUP(A52,[1]Лист1!$A:$C,3,0) -> A09.16.003.000.01 | C52: Пепсиноген I (Pepsinogen I) | D52: 1400 | E52: до 7
A53: 295 | B53: =VLOOKUP(A53,[1]Лист1!$A:$C,3,0) -> A09.16.003.000.02 | C53: Пепсиноген II (Pepsinogen II) | D53: 1400 | E53: до 7
A54: 2111 | C54: Пепсиноген I/II с расчётом соотношения | D54: 2700 | E54: до 7
A55: 1500 | B55: =VLOOKUP(A55,[1]Лист1!$A:$C,3,0) -> A09.05.238.000.01 | C55: Антиоксидантный статус (Доставка в лабораторию СТРОГО в день взятия пн-ср до 19:00) | D55: 6500 | E55: до 8
A56: Субстраты
A57: 13 | B57: =VLOOKUP(A57,[1]Лист1!$A:$C,3,0) -> A09.05.021 | C57: Билирубин общий | D57: 240 | E57: 1
A58: 14 | B58: =VLOOKUP(A58,[1]Лист1!$A:$C,3,0) -> A09.05.022.001 | C58: Билирубин прямой (НЕПРЯМОЙ билирубин выполняется бесплатно, при одновременном заказе тестов 13 + 14) | D58: 250 | E58: 1
A59: 16 | B59: =VLOOKUP(A59,[1]Лист1!$A:$C,3,0) -> A09.05.023 | C59: Глюкоза | D59: 240 | E59: 1
A60: 17 | B60: =VLOOKUP(A60,[1]Лист1!$A:$C,3,0) -> A09.05.102 | C60: Фруктозамин | D60: 1000 | E60: до 3
A61: 18 | B61: =VLOOKUP(A61,[1]Лист1!$A:$C,3,0) -> A09.05.083 | C61: HbA1 (гликированный гемоглобин) | D61: 870 | E61: 1
A62: 22 | B62: =VLOOKUP(A62,[1]Лист1!$A:$C,3,0) -> A09.05.020 | C62: Креатинин | D62: 270 | E62: 1
A63: 40CKDEPI | B63: =VLOOKUP(A63,[1]Лист1!$A:$C,3,0) -> A12.28.002.000.01 | C63: Клубочковая фильтрация, расчет по формуле CKD-EPI – креатинин | D63: 290 | E63: 1
A64: 1525 | B64: =VLOOKUP(A64,[1]Лист1!$A:$C,3,0) -> A09.05.230 | C64: Цистатин С | D64: 1100 | E64: до 2
A65: 1526 | C65: Клубочковая фильтрация, расчет по формуле CKD-EPIцистатин С (2012) | D65: 1050 | E65: до 2
A66: 26 | B66: =VLOOKUP(A66,[1]Лист1!$A:$C,3,0) -> A09.05.017 | C66: Мочевина | D66: 265 | E66: 1
A67: 27 | B67: =VLOOKUP(A67,[1]Лист1!$A:$C,3,0) -> A09.05.018 | C67: Мочевая кислота | D67: 270 | E67: 1
A68: 28 | B68: =VLOOKUP(A68,[1]Лист1!$A:$C,3,0) -> A09.05.010 | C68: Общий белок | D68: 300 | E68: 1
A69: 29 | B69: =VLOOKUP(A69,[1]Лист1!$A:$C,3,0) -> A09.05.014 | C69: Белковые фракции (РАСЧЁТНЫЙ ТЕСТ, необходимы доп. исследования: общий белок (тест №28) | D69: 525 | E69: до 2
A70: 153 | B70: =VLOOKUP(A70,[1]Лист1!$A:$C,3,0) -> A09.05.214 | C70: Гомоцистеин | D70: 2100 | E70: 1
A71: 215 | B71: =VLOOKUP(A71,[1]Лист1!$A:$C,3,0) -> A09.05.207 | C71: Лактат | D71: 1000 | E71: до 2
A72: Специфические белки
A73: 21 | B73: =VLOOKUP(A73,[1]Лист1!$A:$C,3,0) -> A09.05.006 | C73: Миоглобин | D73: 1200 | E73: 1
A74: 157 | B74: =VLOOKUP(A74,[1]Лист1!$A:$C,3,0) -> A09.05.193.000.01 | C74: Тропонин I | D74: 1450 | E74: 1
A75: 42 | B75: =VLOOKUP(A75,[1]Лист1!$A:$C,3,0) -> A12.06.015 | C75: Асл-О | D75: 590 | E75: 1
A76: 43 | B76: =VLOOKUP(A76,[1]Лист1!$A:$C,3,0) -> A09.05.009 | C76: С-Реактивный белок | D76: 500 | E76: 1
A77: 1643 | B77: =VLOOKUP(A77,[1]Лист1!$A:$C,3,0) -> A09.05.009.000.01 | C77: Высокочувствительный С-реактивный белок (кардио) | D77: 650 | E77: до 2
A78: 44 | B78: =VLOOKUP(A78,[1]Лист1!$A:$C,3,0) -> A12.06.019 | C78: Ревматоидный фактор | D78: 620 | E78: 1
A79: 840 | B79: =VLOOKUP(A79,[1]Лист1!$A:$C,3,0) -> A09.05.077 | C79: Церулоплазмин (Coeruloplasmin) | D79: 1000 | E79: до 2
A80: 841 | B80: =VLOOKUP(A80,[1]Лист1!$A:$C,3,0) -> A09.05.079 | C80: Гаптоглобин (Haptoglobin) | D80: 950 | E80: до 2
A81: 1200A1AT | B81: =VLOOKUP(A81,[1]Лист1!$A:$C,3,0) -> A09.05.073 | C81: Альфа-1-антитрипсин, концентрация | D81: 1800 | E81: до 9
A82: 1689 | B82: =VLOOKUP(A82,[1]Лист1!$A:$C,3,0) -> B03.016.025.001.01 | C82: Аминокислоты в плазме крови - скрининговое исследование 13 показателей. (Amino Acids Analysis, Plasma, 13 parameters) | D82: 3800 | E82: до 6
A83: 1690 | B83: =VLOOKUP(A83,[1]Лист1!$A:$C,3,0) -> B03.016.025.001.02 | C83: Аминокислоты в плазме крови, 48 показателей (Amino Acids Analysis, Plasma, 48 parameters) | D83: 7700 | E83: до 6
A84: 1691 | B84: =VLOOKUP(A84,[1]Лист1!$A:$C,3,0) -> A09.28.002 | C84: Аминокислоты в моче, 31 показатель | D84: 6000 | E84: до 6
A85: 832A1A | B85: =VLOOKUP(A85,[2]Лист1!$A:$D,3,0) -> A09.05.073.000.02 | C85: Альфа-1-антитрипсин, фенотипирование | D85: 3200 | E85: до 15
A86: Липидный спектр
A87: 30 | B87: =VLOOKUP(A87,[1]Лист1!$A:$C,3,0) -> A09.05.025 | C87: Триглицериды | D87: 340 | E87: 1
A88: 31 | B88: =VLOOKUP(A88,[1]Лист1!$A:$C,3,0) -> A09.05.026 | C88: Холестерол общий | D88: 310 | E88: 1
A89: 32 | B89: =VLOOKUP(A89,[1]Лист1!$A:$C,3,0) -> A09.05.004 | C89: Холестерол-ЛПВП | D89: 370 | E89: 1
A90: 33 | B90: =VLOOKUP(A90,[1]Лист1!$A:$C,3,0) -> A09.05.028 | C90: Холестерол- ЛПНП (РАСЧЁТНЫЙ ТЕСТ, необходимы доп. исследования: Триглицериды, холестерол, холестерол – ЛПВП (тесты №№ 30 - 32) | D90: 330 | E90: 1
A91: 1644 | B91: =VLOOKUP(A91,[1]Лист1!$A:$C,3,0) -> A09.05.028 | C91: Холестерин ЛПНП, прямой метод | D91: 375 | E91: 1
A92: 1680 | C92: Холестерин не-ЛПВП натощак | D92: 520 | E92: 1
A93: 1682 | C93: Холестерин не-ЛПВП не натощак | D93: 420 | E93: 1
A94: 1685 | C94: Ремнантный холестерин не натощак | D94: 760 | E94: 1
A95: 1675 | C95: Ремнантный холестерин натощак | D95: 760 | E95: 1
A96: 218 | B96: =VLOOKUP(A96,[1]Лист1!$A:$C,3,0) -> A09.05.028.000.01 | C96: Холестерин-ЛПОНП | D96: 480 | E96: 1
A97: 219 | B97: =VLOOKUP(A97,[1]Лист1!$A:$C,3,0) -> A09.05.250 | C97: Аполипопротеин А1 | D97: 800 | E97: до 2
A98: 220 | B98: =VLOOKUP(A98,[1]Лист1!$A:$C,3,0) -> A09.05.251 | C98: Аполипопротеин В | D98: 750 | E98: до 2
A99: 1071 | B99: =VLOOKUP(A99,[1]Лист1!$A:$C,3,0) -> A09.05.027 | C99: Липопротеин (а) | D99: 1300 | E99: до 2
A100: 1619 | C100: Электрофорез липопротеинов с типированием гиперлипидемий (Lipoprotein electrophoresis with typing of hyperlipidemias) | D100: 9000 | E100: до 6
A101: Оценка состояния гепатобилиарной системы.
...

Sheet Лист1
